BEGIN:VCALENDAR
VERSION:2.0
PRODID:icalendar-ruby
CALSCALE:GREGORIAN
METHOD:PUBLISH
BEGIN:VEVENT
DTSTAMP:20260424T123807Z
UID:6-2145230@hc-lutheranchurch.org
DTSTART:20261018T133000Z
DTEND:20261018T143000Z
CLASS:PUBLIC
CREATED:20260424T073836
DESCRIPTION:All are welcome to join us for 9:30am worship! We worship outsi
 de Memorial Day weekend through Labor Day weekend\, weather permitting\, i
 n the front of the church.  \nService is also live streamed to our churc
 h Facebook page\, page\, but the camera is pointed away during Communion a
 nd is not on the children when they come forward during A Time for the Chi
 ld in Us All. Anyone on the altar is on camera.\nWe also offer a pray-grou
 nd as a special place to help support kids and families in worshiping. We 
 love the sound of kids in worship! God made kids wiggly and curious\, and 
 we celebrate that here. Tips: explain\, participate\, and move around toge
 ther. 
LAST-MODIFIED:20260424T073836
LOCATION:
SUMMARY:Worship
URL;VALUE=URI:https://hc-lutheranchurch.org/events/worship/2026-10-18
ATTACH;FILENAME=Worship.png;FMTTYPE=image/png:https://dq5pwpg1q8ru0.cloudfr
 ont.net/2022/08/25/12/59/08/45487f4e-366f-41f0-8a2b-dca5040d062e/Worship.p
 ng
END:VEVENT
END:VCALENDAR
