BEGIN:VCALENDAR
VERSION:2.0
PRODID:icalendar-ruby
CALSCALE:GREGORIAN
METHOD:PUBLISH
BEGIN:VEVENT
DTSTAMP:20260422T220954Z
UID:192-2115755@hc-lutheranchurch.org
DTSTART:20260519T163000Z
DTEND:20260519T183000Z
CLASS:PUBLIC
CREATED:20260420T143510
DESCRIPTION:Pastor Peggy holds Community Office Hours at local coffee shops
  in town and nearby towns. She will be working and inviting folks to come 
 and chat. You are always welcome to stop by for a visit anytime! If you'd 
 like a private conversation with her you can always call or email to set a
 n appointment. 
LAST-MODIFIED:20260420T143510
LOCATION:Noble Pies in Warwick
SUMMARY:Pastor's Community Office Hours 
URL;VALUE=URI:https://hc-lutheranchurch.org/events/pastors-community-office
 -hours--192/2026-05-19
ATTACH;FILENAME=Pastor%27s-Community-Office-Hours-website-%281500-%C3%97-78
 4-px%29.png;FMTTYPE=image/png:https://dq5pwpg1q8ru0.cloudfront.net/2026/04
 /20/18/35/10/8e7a605b-caa8-4949-8e30-fb4445c30182/Pastor%2527s-Community-O
 ffice-Hours-website-%25281500-%25C3%2597-784-px%2529.png
END:VEVENT
END:VCALENDAR
